BEGIN:VCALENDAR
VERSION:2.0
PRODID:-//Eventsity//NONSGML v1.0//EN
CALSCALE:GREGORIAN
METHOD:PUBLISH
X-WR-CALNAME:Connect For Success
X-ORIGINAL-URL:http://www.connectforsuccess.com.au
X-WR-CALDESC:Events for Connect For Success
BEGIN:VEVENT
DTSTART;VALUE=DATE-TIME:
DTEND;VALUE=DATE-TIME:20190321T013000
DTSTAMP:20260422T072227
CREATED:20190307T133223
LAST-MODIFIED:20190314T102950
UID:admin@eventsity.com
SUMMARY:Coffee Morning - North Shore
DESCRIPTION:Join us on 21 March 2019 for another morning filled with coffee, cake, and...
URL:http://www.connectforsuccess.com.au/events/coffee-morning-north-shore-56076
LOCATION:
ATTACH;FMTTYPE=image/jpeg:http://www.connectforsuccess.com.au/infomaxim/assets/images/66/56076/f__20399_coffee_morning__2_.jpg
END:VEVENT
END:VCALENDAR