BEGIN:VCALENDAR
VERSION:2.0
PRODID:-//Eventsity//NONSGML v1.0//EN
CALSCALE:GREGORIAN
METHOD:PUBLISH
X-WR-CALNAME:Connect For Success
X-ORIGINAL-URL:http://www.connectforsuccess.com.au
X-WR-CALDESC:Events for Connect For Success
BEGIN:VEVENT
DTSTART;VALUE=DATE-TIME:
DTEND;VALUE=DATE-TIME:20220921T003000
DTSTAMP:20260424T212127
CREATED:20220803T185041
LAST-MODIFIED:20220818T153534
UID:admin@eventsity.com
SUMMARY:September Coffee Morning: Northern Beaches Business Networking
DESCRIPTION:
URL:http://www.connectforsuccess.com.au/events/coffee-morning-northern-beaches-business-networking-77752
LOCATION:
ATTACH;FMTTYPE=image/jpeg:http://www.connectforsuccess.com.au/infomaxim/assets/images/66/77752/f__28629_3.png
END:VEVENT
END:VCALENDAR