BEGIN:VCALENDAR
VERSION:1.0
PRODID:-//Microsoft Corporation//Outlook 9.0 MIMEDIR//EN
BEGIN:VEVENT
DTSTART;VALUE=DATE-TIME:20190320T233000
DTEND;VALUE=DATE-TIME:
SUMMARY:Coffee Morning - North Shore
DESCRIPTION:Join us on 21 March 2019 for another morning filled with coffee, cake, and great conversations.
LOCATION:
END:VEVENT
END:VCALENDAR

