BEGIN:VCALENDAR
VERSION:1.0
PRODID:-//Microsoft Corporation//Outlook 9.0 MIMEDIR//EN
BEGIN:VEVENT
DTSTART;VALUE=DATE-TIME:20220920T230000
DTEND;VALUE=DATE-TIME:
SUMMARY:September Coffee Morning: Northern Beaches Business Networking
DESCRIPTION:
LOCATION:
END:VEVENT
END:VCALENDAR

